BEGIN:VCALENDAR
VERSION:2.0
METHOD:PUBLISH
BEGIN:VEVENT
DTSTART:20240313T143200Z
DTEND:20240314T143200Z
LOCATION:
TRANSP: OPAQUE
SEQUENCE:0
UID:
DTSTAMP:20260310T192405Z
SUMMARY:UDV Group — Бронзовый партнёр конференции ИБ АСУ ТП КВО 2024
DESCRIPTION:
URL;VALUE=URI:
PRIORITY:1
CLASS:PUBLIC
END:VEVENT
END:VCALENDAR
